BEGIN:VCALENDAR
VERSION:2.0
PRODID:-//FC1869//CS
BEGIN:VEVENT
DTSTAMP:20260419T132725Z
DTSTART:20230518T184500Z
DTEND:20230518T194500Z
SUMMARY:7. Lord Maguire - Panteři Buštěhrad
LOCATION:CESMI
UID:69e4d83dde505@FC1869
END:VEVENT
END:VCALENDAR