BEGIN:VCALENDAR
VERSION:2.0
PRODID:-//FC1869//CS
BEGIN:VEVENT
DTSTAMP:20260419T132443Z
DTSTART:20230523T160000Z
DTEND:20230523T170000Z
SUMMARY:8. Viktoria Bítovská B - Rychlí banáni
LOCATION:SANC2
UID:69e4d79b4596c@FC1869
END:VEVENT
END:VCALENDAR