BEGIN:VCALENDAR
VERSION:2.0
PRODID:-//FC1869//CS
BEGIN:VEVENT
DTSTAMP:20260419T132801Z
DTSTART:20230523T161500Z
DTEND:20230523T171500Z
SUMMARY:8. FC 1869 - FC FC
LOCATION:SLIVE
UID:69e4d8615eefc@FC1869
END:VEVENT
END:VCALENDAR