BEGIN:VCALENDAR
VERSION:2.0
PRODID:-//FC1869//CS
BEGIN:VEVENT
DTSTAMP:20260419T132333Z
DTSTART:20230524T153000Z
DTEND:20230524T163000Z
SUMMARY:8. Blaničtí junáčci - Lord Maguire
LOCATION:ARIT
UID:69e4d75573f32@FC1869
END:VEVENT
END:VCALENDAR