BEGIN:VCALENDAR
VERSION:2.0
PRODID:-//FC1869//CS
BEGIN:VEVENT
DTSTAMP:20260419T132808Z
DTSTART:20230525T184500Z
DTEND:20230525T194500Z
SUMMARY:8. Panteři Buštěhrad - Měcholupská střeva
LOCATION:CESMI
UID:69e4d868b8ab6@FC1869
END:VEVENT
END:VCALENDAR