BEGIN:VCALENDAR
VERSION:2.0
PRODID:-//FC1869//CS
BEGIN:VEVENT
DTSTAMP:20260419T145103Z
DTSTART:20230601T160000Z
DTEND:20230601T170000Z
SUMMARY:9. Lord Maguire - Deers FC
LOCATION:STER1
UID:69e4ebd7d0da8@FC1869
END:VEVENT
END:VCALENDAR