BEGIN:VCALENDAR
VERSION:2.0
PRODID:-//FC1869//CS
BEGIN:VEVENT
DTSTAMP:20260419T132402Z
DTSTART:20230601T161500Z
DTEND:20230601T171500Z
SUMMARY:9. Měcholupská střeva - Blaničtí junáčci
LOCATION:BECH
UID:69e4d7721d3fc@FC1869
END:VEVENT
END:VCALENDAR