BEGIN:VCALENDAR
VERSION:2.0
PRODID:-//FC1869//CS
BEGIN:VEVENT
DTSTAMP:20260419T132726Z
DTSTART:20230601T171500Z
DTEND:20230601T181500Z
SUMMARY:9. Rychlí banáni - Talismans
LOCATION:SANC1
UID:69e4d83eeeadd@FC1869
END:VEVENT
END:VCALENDAR