BEGIN:VCALENDAR
VERSION:2.0
PRODID:-//FC1869//CS
BEGIN:VEVENT
DTSTAMP:20260419T132934Z
DTSTART:20230601T183000Z
DTEND:20230601T193000Z
SUMMARY:9. FC FC - Viktoria Bítovská B
LOCATION:STER3
UID:69e4d8be99da6@FC1869
END:VEVENT
END:VCALENDAR