BEGIN:VCALENDAR
VERSION:2.0
PRODID:-//FC1869//CS
BEGIN:VEVENT
DTSTAMP:20260419T145036Z
DTSTART:20230608T171500Z
DTEND:20230608T181500Z
SUMMARY:10. Viktoria Bítovská B - Talismans
LOCATION:SANC1
UID:69e4ebbc7125e@FC1869
END:VEVENT
END:VCALENDAR