BEGIN:VCALENDAR
VERSION:2.0
PRODID:-//FC1869//CS
BEGIN:VEVENT
DTSTAMP:20260419T132557Z
DTSTART:20230608T183000Z
DTEND:20230608T193000Z
SUMMARY:10. Deers FC - Měcholupská střeva
LOCATION:SANC1
UID:69e4d7e5b9689@FC1869
END:VEVENT
END:VCALENDAR