BEGIN:VCALENDAR
VERSION:2.0
PRODID:-//FC1869//CS
BEGIN:VEVENT
DTSTAMP:20260419T132242Z
DTSTART:20230608T183000Z
DTEND:20230608T193000Z
SUMMARY:10. FC 1869 - Lord Maguire
LOCATION:MALES
UID:69e4d7226d956@FC1869
END:VEVENT
END:VCALENDAR