BEGIN:VCALENDAR
VERSION:2.0
PRODID:-//FC1869//CS
BEGIN:VEVENT
DTSTAMP:20260419T132726Z
DTSTART:20230608T184500Z
DTEND:20230608T194500Z
SUMMARY:10. Panteři Buštěhrad - Rychlí banáni
LOCATION:CESMI
UID:69e4d83e60007@FC1869
END:VEVENT
END:VCALENDAR