BEGIN:VCALENDAR
VERSION:2.0
PRODID:-//FC1869//CS
BEGIN:VEVENT
DTSTAMP:20260419T132853Z
DTSTART:20230629T181500Z
DTEND:20230629T191500Z
SUMMARY:11. Rychlí banáni - Blaničtí junáčci
LOCATION:P2
UID:69e4d895eb67c@FC1869
END:VEVENT
END:VCALENDAR