BEGIN:VCALENDAR
VERSION:2.0
PRODID:-//FC1869//CS
BEGIN:VEVENT
DTSTAMP:20260419T132628Z
DTSTART:20230629T183000Z
DTEND:20230629T193000Z
SUMMARY:11. Měcholupská střeva - FC 1869
LOCATION:SANC1
UID:69e4d8047338e@FC1869
END:VEVENT
END:VCALENDAR