BEGIN:VCALENDAR
VERSION:2.0
PRODID:-//FC1869//CS
BEGIN:VEVENT
DTSTAMP:20260419T132720Z
DTSTART:20230629T184500Z
DTEND:20230629T194500Z
SUMMARY:11. Lord Maguire - FC FC
LOCATION:ARIT
UID:69e4d838ae9e2@FC1869
END:VEVENT
END:VCALENDAR