BEGIN:VCALENDAR
VERSION:2.0
PRODID:-//FC1869//CS
BEGIN:VEVENT
DTSTAMP:20260419T132243Z
DTSTART:20230629T184500Z
DTEND:20230629T194500Z
SUMMARY:11. Talismans - Panteři Buštěhrad
LOCATION:CESMI
UID:69e4d7237b428@FC1869
END:VEVENT
END:VCALENDAR