BEGIN:VCALENDAR
VERSION:2.0
PRODID:-//FC1869//CS
BEGIN:VEVENT
DTSTAMP:20260419T124441Z
DTSTART:20080330T103000Z
DTEND:20080330T113000Z
SUMMARY:Pískání (HL 6. L Guinness AC - Target FC)
LOCATION:P3
UID:69e4ce3974835@FC1869
END:VEVENT
END:VCALENDAR