BEGIN:VCALENDAR
VERSION:2.0
PRODID:-//FC1869//CS
BEGIN:VEVENT
DTSTAMP:20260419T124441Z
DTSTART:20080330T114500Z
DTEND:20080330T124500Z
SUMMARY:Pískání (HL 6. J Jednota Košík - Tutto bene)
LOCATION:P3
UID:69e4ce3998ecc@FC1869
END:VEVENT
END:VCALENDAR