BEGIN:VCALENDAR
VERSION:2.0
PRODID:-//FC1869//CS
BEGIN:VEVENT
DTSTAMP:20260419T124355Z
DTSTART:20080603T161500Z
DTEND:20080603T171500Z
SUMMARY:Pískání (HL 5. C Don Giovanni - South Stars)
LOCATION:HAGI1
UID:69e4ce0be1404@FC1869
END:VEVENT
END:VCALENDAR