BEGIN:VCALENDAR
VERSION:2.0
PRODID:-//FC1869//CS
BEGIN:VEVENT
DTSTAMP:20260419T115912Z
DTSTART:20250902T160000Z
DTEND:20250902T170000Z
SUMMARY:1. Netopýr TFC - Píchy Blinders FC
LOCATION:HRAB1
UID:69e4c390b41f7@FC1869
END:VEVENT
END:VCALENDAR