BEGIN:VCALENDAR
VERSION:2.0
PRODID:-//FC1869//CS
BEGIN:VEVENT
DTSTAMP:20260419T130546Z
DTSTART:20250902T183000Z
DTEND:20250902T193000Z
SUMMARY:1. FC 1869 - Metráčci
LOCATION:MOTO4
UID:69e4d32a34bc6@FC1869
END:VEVENT
END:VCALENDAR