BEGIN:VCALENDAR
VERSION:2.0
PRODID:-//FC1869//CS
BEGIN:VEVENT
DTSTAMP:20260419T130557Z
DTSTART:20250902T184500Z
DTEND:20250902T194500Z
SUMMARY:1. Medvědi A - TJ Bohemia Chips 1980
LOCATION:P1
UID:69e4d335c2a38@FC1869
END:VEVENT
END:VCALENDAR