BEGIN:VCALENDAR
VERSION:2.0
PRODID:-//FC1869//CS
BEGIN:VEVENT
DTSTAMP:20260419T130709Z
DTSTART:20250904T160000Z
DTEND:20250904T170000Z
SUMMARY:1. Buccaneers FC - Pětka
LOCATION:HRAB3
UID:69e4d37de1622@FC1869
END:VEVENT
END:VCALENDAR