BEGIN:VCALENDAR
VERSION:2.0
PRODID:-//FC1869//CS
BEGIN:VEVENT
DTSTAMP:20260419T130638Z
DTSTART:20250909T161500Z
DTEND:20250909T171500Z
SUMMARY:2. Emergency - Netopýr TFC
LOCATION:DEKAN
UID:69e4d35e71947@FC1869
END:VEVENT
END:VCALENDAR