BEGIN:VCALENDAR
VERSION:2.0
PRODID:-//FC1869//CS
BEGIN:VEVENT
DTSTAMP:20260419T130808Z
DTSTART:20250909T184500Z
DTEND:20250909T194500Z
SUMMARY:2. Píchy Blinders FC - Medvědi A
LOCATION:P1
UID:69e4d3b85b1ff@FC1869
END:VEVENT
END:VCALENDAR