BEGIN:VCALENDAR
VERSION:2.0
PRODID:-//FC1869//CS
BEGIN:VEVENT
DTSTAMP:20260419T130720Z
DTSTART:20250911T161500Z
DTEND:20250911T171500Z
SUMMARY:2. TJ Bohemia Chips 1980 - Buccaneers FC
LOCATION:STER1
UID:69e4d388d7f52@FC1869
END:VEVENT
END:VCALENDAR