BEGIN:VCALENDAR
VERSION:2.0
PRODID:-//FC1869//CS
BEGIN:VEVENT
DTSTAMP:20260419T130710Z
DTSTART:20250916T184500Z
DTEND:20250916T194500Z
SUMMARY:3. Metráčci - Patočkova brána FC
LOCATION:CESMI
UID:69e4d37e4f310@FC1869
END:VEVENT
END:VCALENDAR