BEGIN:VCALENDAR
VERSION:2.0
PRODID:-//FC1869//CS
BEGIN:VEVENT
DTSTAMP:20260419T130901Z
DTSTART:20250916T184500Z
DTEND:20250916T194500Z
SUMMARY:3. Medvědi A - Emergency
LOCATION:P1
UID:69e4d3ede5263@FC1869
END:VEVENT
END:VCALENDAR