BEGIN:VCALENDAR
VERSION:2.0
PRODID:-//FC1869//CS
BEGIN:VEVENT
DTSTAMP:20260419T130431Z
DTSTART:20250918T161500Z
DTEND:20250918T171500Z
SUMMARY:3. FC 1869 - Pětka
LOCATION:SANC1
UID:69e4d2df0380c@FC1869
END:VEVENT
END:VCALENDAR