BEGIN:VCALENDAR
VERSION:2.0
PRODID:-//FC1869//CS
BEGIN:VEVENT
DTSTAMP:20260419T130950Z
DTSTART:20250930T160000Z
DTEND:20250930T170000Z
SUMMARY:4. Netopýr TFC - Medvědi A
LOCATION:HRAB1
UID:69e4d41e0cb02@FC1869
END:VEVENT
END:VCALENDAR