BEGIN:VCALENDAR
VERSION:2.0
PRODID:-//FC1869//CS
BEGIN:VEVENT
DTSTAMP:20260419T130908Z
DTSTART:20250930T161500Z
DTEND:20250930T171500Z
SUMMARY:4. Sudetské lopaty - Patočkova brána FC
LOCATION:ARIT
UID:69e4d3f43fad5@FC1869
END:VEVENT
END:VCALENDAR