BEGIN:VCALENDAR
VERSION:2.0
PRODID:-//FC1869//CS
BEGIN:VEVENT
DTSTAMP:20260419T130721Z
DTSTART:20250930T161500Z
DTEND:20250930T171500Z
SUMMARY:4. Emergency - Buccaneers FC
LOCATION:DEKAN
UID:69e4d389072a7@FC1869
END:VEVENT
END:VCALENDAR