BEGIN:VCALENDAR
VERSION:2.0
PRODID:-//FC1869//CS
BEGIN:VEVENT
DTSTAMP:20260419T130640Z
DTSTART:20251001T183000Z
DTEND:20251001T193000Z
SUMMARY:4. Pětka - Metráčci
LOCATION:HANSP
UID:69e4d36041ac7@FC1869
END:VEVENT
END:VCALENDAR