BEGIN:VCALENDAR
VERSION:2.0
PRODID:-//FC1869//CS
BEGIN:VEVENT
DTSTAMP:20260419T130845Z
DTSTART:20251002T184500Z
DTEND:20251002T194500Z
SUMMARY:4. TJ Bohemia Chips 1980 - FC 1869
LOCATION:SANC2
UID:69e4d3ddce925@FC1869
END:VEVENT
END:VCALENDAR