BEGIN:VCALENDAR
VERSION:2.0
PRODID:-//FC1869//CS
BEGIN:VEVENT
DTSTAMP:20260419T130809Z
DTSTART:20251007T160000Z
DTEND:20251007T170000Z
SUMMARY:5. Buccaneers FC - Netopýr TFC
LOCATION:HRAB1
UID:69e4d3b9090cf@FC1869
END:VEVENT
END:VCALENDAR