BEGIN:VCALENDAR
VERSION:2.0
PRODID:-//FC1869//CS
BEGIN:VEVENT
DTSTAMP:20260419T115620Z
DTSTART:20251007T184500Z
DTEND:20251007T194500Z
SUMMARY:5. FC 1869 - Píchy Blinders FC
LOCATION:CESMI
UID:69e4c2e43213b@FC1869
END:VEVENT
END:VCALENDAR