BEGIN:VCALENDAR
VERSION:2.0
PRODID:-//FC1869//CS
BEGIN:VEVENT
DTSTAMP:20260419T130556Z
DTSTART:20251008T150000Z
DTEND:20251008T160000Z
SUMMARY:5. Metráčci - TJ Bohemia Chips 1980
LOCATION:DEKAN
UID:69e4d3348c42f@FC1869
END:VEVENT
END:VCALENDAR