BEGIN:VCALENDAR
VERSION:2.0
PRODID:-//FC1869//CS
BEGIN:VEVENT
DTSTAMP:20260419T130900Z
DTSTART:20251009T184500Z
DTEND:20251009T194500Z
SUMMARY:5. Patočkova brána FC - Pětka
LOCATION:STER1
UID:69e4d3ecb694e@FC1869
END:VEVENT
END:VCALENDAR