BEGIN:VCALENDAR
VERSION:2.0
PRODID:-//FC1869//CS
BEGIN:VEVENT
DTSTAMP:20260419T130455Z
DTSTART:20251014T184500Z
DTEND:20251014T194500Z
SUMMARY:6. Emergency - FC 1869
LOCATION:DEKAN
UID:69e4d2f7d043d@FC1869
END:VEVENT
END:VCALENDAR