BEGIN:VCALENDAR
VERSION:2.0
PRODID:-//FC1869//CS
BEGIN:VEVENT
DTSTAMP:20260419T130557Z
DTSTART:20251014T184500Z
DTEND:20251014T194500Z
SUMMARY:6. TJ Bohemia Chips 1980 - Patočkova brána FC
LOCATION:STER2
UID:69e4d33521615@FC1869
END:VEVENT
END:VCALENDAR