BEGIN:VCALENDAR
VERSION:2.0
PRODID:-//FC1869//CS
BEGIN:VEVENT
DTSTAMP:20260419T130423Z
DTSTART:20251014T184500Z
DTEND:20251014T194500Z
SUMMARY:6. Medvědi A - Buccaneers FC
LOCATION:P1
UID:69e4d2d798e8e@FC1869
END:VEVENT
END:VCALENDAR