BEGIN:VCALENDAR
VERSION:2.0
PRODID:-//FC1869//CS
BEGIN:VEVENT
DTSTAMP:20260419T130722Z
DTSTART:20251021T160000Z
DTEND:20251021T170000Z
SUMMARY:7. FC 1869 - Netopýr TFC
LOCATION:HRAB1
UID:69e4d38a8eda3@FC1869
END:VEVENT
END:VCALENDAR