BEGIN:VCALENDAR
VERSION:2.0
PRODID:-//FC1869//CS
BEGIN:VEVENT
DTSTAMP:20260419T115744Z
DTSTART:20251021T173000Z
DTEND:20251021T183000Z
SUMMARY:7. Patočkova brána FC - Píchy Blinders FC
LOCATION:STER3
UID:69e4c33861b8e@FC1869
END:VEVENT
END:VCALENDAR