BEGIN:VCALENDAR
VERSION:2.0
PRODID:-//FC1869//CS
BEGIN:VEVENT
DTSTAMP:20260419T130422Z
DTSTART:20251021T184500Z
DTEND:20251021T194500Z
SUMMARY:7. Metráčci - Emergency
LOCATION:DEKAN
UID:69e4d2d677d96@FC1869
END:VEVENT
END:VCALENDAR