BEGIN:VCALENDAR
VERSION:2.0
PRODID:-//FC1869//CS
BEGIN:VEVENT
DTSTAMP:20260419T130429Z
DTSTART:20251023T171500Z
DTEND:20251023T181500Z
SUMMARY:7. Pětka - TJ Bohemia Chips 1980
LOCATION:HANSP
UID:69e4d2dd716f6@FC1869
END:VEVENT
END:VCALENDAR