BEGIN:VCALENDAR
VERSION:2.0
PRODID:-//FC1869//CS
BEGIN:VEVENT
DTSTAMP:20260419T130900Z
DTSTART:20251028T171500Z
DTEND:20251028T181500Z
SUMMARY:8. Emergency - Patočkova brána FC
LOCATION:DEKAN
UID:69e4d3ec7d58d@FC1869
END:VEVENT
END:VCALENDAR