BEGIN:VCALENDAR
VERSION:2.0
PRODID:-//FC1869//CS
BEGIN:VEVENT
DTSTAMP:20260419T130454Z
DTSTART:20251028T190000Z
DTEND:20251028T200000Z
SUMMARY:8. Netopýr TFC - Metráčci
LOCATION:PRKOP
UID:69e4d2f66fa7c@FC1869
END:VEVENT
END:VCALENDAR