BEGIN:VCALENDAR
VERSION:2.0
PRODID:-//FC1869//CS
BEGIN:VEVENT
DTSTAMP:20260419T130430Z
DTSTART:20251030T181500Z
DTEND:20251030T191500Z
SUMMARY:8. Buccaneers FC - Dynamo Warriors FC
LOCATION:MOTO4
UID:69e4d2de0676d@FC1869
END:VEVENT
END:VCALENDAR