BEGIN:VCALENDAR
VERSION:2.0
PRODID:-//FC1869//CS
BEGIN:VEVENT
DTSTAMP:20260419T124152Z
DTSTART:20090328T101500Z
DTEND:20090328T111500Z
SUMMARY:1. ALT 1. AK - Blue flame  ! možná kolize barvy dresů !
LOCATION:DEKAN
UID:69e4cd9095820@FC1869
END:VEVENT
END:VCALENDAR